BEGIN:VCALENDAR
VERSION:2.0
PRODID:icalendar-ruby
CALSCALE:GREGORIAN
METHOD:PUBLISH
BEGIN:VEVENT
DTSTAMP:20260424T103748Z
UID:299-1868320@npmbchurch.com
DTSTART:20261025T160000Z
DTEND:20261025T180000Z
CLASS:PUBLIC
CREATED:20260424T030702
DESCRIPTION:All children must be registered for the 202/2025 year of Kids Z
 one. Registration forms can be found by following the link below\, Sunday 
 mornings at the sign in table\, or at the church office during office hour
 s.\nKids Zone is for children ages 2 to grade 6! It is available at both t
 he 9am and 11am services. Check in time begins 15 minutes before the servi
 ce\, and ends 15 minutes after the service starts. Please check your child
 ren in during these times as the attendant is not always available after t
 he check in time ends.\n\nNursery ages 0-2 (upstairs - open but unattended
 )\nRunabouts ages 2-3\nKids Zone ages 4-Grade 6\nPlease contact Emily or t
 he church office (250-785-3869/office@npmbchurch.com) during office hours\
 , or text the church texting line at 778-400-4549 with any questions.
LAST-MODIFIED:20260424T030702
LOCATION:North Peace MB Church Lower Auditorium
SUMMARY:Kidszone Sunday Services
URL;VALUE=URI:https://www.npmbchurch.com/events/kidszone-sunday-services/20
 26-10-25
ATTACH;FILENAME=kidszone.png;FMTTYPE=image/png:https://dq5pwpg1q8ru0.cloudf
 ront.net/2025/09/25/23/54/20/02f15c7f-e9b0-48c2-9e99-4d84b054b2d5/kidszone
 .png
ATTACH;FILENAME=Kids Zone Registration Form 2025.pdf;FMTTYPE=application/pd
 f:https://dq5pwpg1q8ru0.cloudfront.net/2025/11/10/16/48/33/1965f1ac-a25e-4
 e66-8ef3-09a5c488baba/Kids%20Zone%20Registration%20Form%202025.pdf
END:VEVENT
END:VCALENDAR
